BEGIN:VCALENDAR
VERSION:2.0
PRODID:spatie/icalendar-generator
NAME:AICPA Town Hall Series (Rebroadcast of 10/15/2026)
X-WR-CALNAME:AICPA Town Hall Series (Rebroadcast of 10/15/2026)
BEGIN:VTIMEZONE
TZID:America/New_York
BEGIN:DAYLIGHT
DTSTART:20260308T010000
TZOFFSETFROM:-0500
TZOFFSETTO:-0400
END:DAYLIGHT
BEGIN:STANDARD
DTSTART:20261101T010000
TZOFFSETFROM:-0400
TZOFFSETTO:-0500
END:STANDARD
BEGIN:DAYLIGHT
DTSTART:20270314T010000
TZOFFSETFROM:-0500
TZOFFSETTO:-0400
END:DAYLIGHT
END:VTIMEZONE
BEGIN:VTIMEZONE
TZID:UTC
BEGIN:STANDARD
DTSTART:20250727T230857
TZOFFSETFROM:+0000
TZOFFSETTO:+0000
END:STANDARD
END:VTIMEZONE
BEGIN:VEVENT
UID:69eaa6894284a
DTSTAMP:20260423T230857Z
SUMMARY:AICPA Town Hall Series (Rebroadcast of 10/15/2026)
LOCATION: 
URL:https://macpa.org/catalog/events/21568912-aicpa-town-hall-series-rebroa
 dcast-of-10152026-2026-19-10
DTSTART;TZID=America/New_York:20261019T130000
DTEND;TZID=America/New_York:20261019T140000
END:VEVENT
END:VCALENDAR