BEGIN:VCALENDAR
VERSION:2.0
PRODID:spatie/icalendar-generator
NAME:Excel for Accounting Professionals Session 2: Data Validation and Cond
 itional Formatting
X-WR-CALNAME:Excel for Accounting Professionals Session 2: Data Validation 
 and Conditional Formatting
BEGIN:VTIMEZONE
TZID:America/New_York
BEGIN:DAYLIGHT
DTSTART:20260308T010000
TZOFFSETFROM:-0500
TZOFFSETTO:-0400
END:DAYLIGHT
BEGIN:STANDARD
DTSTART:20261101T010000
TZOFFSETFROM:-0400
TZOFFSETTO:-0500
END:STANDARD
BEGIN:DAYLIGHT
DTSTART:20270314T010000
TZOFFSETFROM:-0500
TZOFFSETTO:-0400
END:DAYLIGHT
END:VTIMEZONE
BEGIN:VTIMEZONE
TZID:UTC
BEGIN:STANDARD
DTSTART:20250727T230348
TZOFFSETFROM:+0000
TZOFFSETTO:+0000
END:STANDARD
END:VTIMEZONE
BEGIN:VEVENT
UID:69eaa5548b9dd
DTSTAMP:20260423T230348Z
SUMMARY:Excel for Accounting Professionals Session 2: Data Validation and C
 onditional Formatting
LOCATION: 
URL:https://macpa.org/catalog/events/21568865-excel-for-accounting-professi
 onals-session-2-data-validation-and-conditional-formatting-2026-12-10
DTSTART;TZID=America/New_York:20261012T100000
DTEND;TZID=America/New_York:20261012T120000
END:VEVENT
END:VCALENDAR