BEGIN:VCALENDAR
VERSION:2.0
PRODID:spatie/icalendar-generator
NAME:Business Transformation: Critical Skills for CFOs and Controllers
X-WR-CALNAME:Business Transformation: Critical Skills for CFOs and Controll
 ers
BEGIN:VTIMEZONE
TZID:America/New_York
BEGIN:DAYLIGHT
DTSTART:20260308T010000
TZOFFSETFROM:-0500
TZOFFSETTO:-0400
END:DAYLIGHT
BEGIN:STANDARD
DTSTART:20261101T010000
TZOFFSETFROM:-0400
TZOFFSETTO:-0500
END:STANDARD
BEGIN:DAYLIGHT
DTSTART:20270314T010000
TZOFFSETFROM:-0500
TZOFFSETTO:-0400
END:DAYLIGHT
END:VTIMEZONE
BEGIN:VTIMEZONE
TZID:UTC
BEGIN:STANDARD
DTSTART:20250727T230800
TZOFFSETFROM:+0000
TZOFFSETTO:+0000
END:STANDARD
END:VTIMEZONE
BEGIN:VEVENT
UID:69eaa650e332c
DTSTAMP:20260423T230800Z
SUMMARY:Business Transformation: Critical Skills for CFOs and Controllers
LOCATION: 
URL:https://macpa.org/catalog/events/21568856-business-transformation-criti
 cal-skills-for-cfos-and-controllers-2026-06-10
DTSTART;TZID=America/New_York:20261006T100000
DTEND;TZID=America/New_York:20261006T140000
END:VEVENT
END:VCALENDAR