BEGIN:VCALENDAR
VERSION:2.0
PRODID:spatie/icalendar-generator
NAME:Performing a Single Audit Under the Uniform Guidance
X-WR-CALNAME:Performing a Single Audit Under the Uniform Guidance
BEGIN:VTIMEZONE
TZID:America/New_York
BEGIN:DAYLIGHT
DTSTART:20260308T010000
TZOFFSETFROM:-0500
TZOFFSETTO:-0400
END:DAYLIGHT
BEGIN:STANDARD
DTSTART:20261101T010000
TZOFFSETFROM:-0400
TZOFFSETTO:-0500
END:STANDARD
BEGIN:DAYLIGHT
DTSTART:20270314T010000
TZOFFSETFROM:-0500
TZOFFSETTO:-0400
END:DAYLIGHT
END:VTIMEZONE
BEGIN:VTIMEZONE
TZID:UTC
BEGIN:STANDARD
DTSTART:20250727T230759
TZOFFSETFROM:+0000
TZOFFSETTO:+0000
END:STANDARD
END:VTIMEZONE
BEGIN:VEVENT
UID:69eaa64f73931
DTSTAMP:20260423T230759Z
SUMMARY:Performing a Single Audit Under the Uniform Guidance
LOCATION: 
URL:https://macpa.org/catalog/events/21568850-performing-a-single-audit-und
 er-the-uniform-guidance-2026-05-10
DTSTART;TZID=America/New_York:20261005T090000
DTEND;TZID=America/New_York:20261005T170000
END:VEVENT
END:VCALENDAR