BEGIN:VCALENDAR
VERSION:2.0
PRODID:spatie/icalendar-generator
NAME:COSO's Internal Control Framework Essentials
X-WR-CALNAME:COSO's Internal Control Framework Essentials
BEGIN:VTIMEZONE
TZID:America/New_York
BEGIN:DAYLIGHT
DTSTART:20260308T010000
TZOFFSETFROM:-0500
TZOFFSETTO:-0400
END:DAYLIGHT
BEGIN:STANDARD
DTSTART:20261101T010000
TZOFFSETFROM:-0400
TZOFFSETTO:-0500
END:STANDARD
BEGIN:DAYLIGHT
DTSTART:20270314T010000
TZOFFSETFROM:-0500
TZOFFSETTO:-0400
END:DAYLIGHT
END:VTIMEZONE
BEGIN:VTIMEZONE
TZID:UTC
BEGIN:STANDARD
DTSTART:20250727T230648
TZOFFSETFROM:+0000
TZOFFSETTO:+0000
END:STANDARD
END:VTIMEZONE
BEGIN:VEVENT
UID:69eaa60889fcf
DTSTAMP:20260423T230648Z
SUMMARY:COSO's Internal Control Framework Essentials
LOCATION: 
URL:https://macpa.org/catalog/events/21568794-cosos-internal-control-framew
 ork-essentials-2026-18-09
DTSTART;TZID=America/New_York:20260918T090000
DTEND;TZID=America/New_York:20260918T123000
END:VEVENT
END:VCALENDAR