BEGIN:VCALENDAR
VERSION:2.0
PRODID:spatie/icalendar-generator
NAME:Construction Contractors: Auditing Considerations
X-WR-CALNAME:Construction Contractors: Auditing Considerations
BEGIN:VTIMEZONE
TZID:America/New_York
BEGIN:DAYLIGHT
DTSTART:20260308T010000
TZOFFSETFROM:-0500
TZOFFSETTO:-0400
END:DAYLIGHT
BEGIN:STANDARD
DTSTART:20261101T010000
TZOFFSETFROM:-0400
TZOFFSETTO:-0500
END:STANDARD
BEGIN:DAYLIGHT
DTSTART:20270314T010000
TZOFFSETFROM:-0500
TZOFFSETTO:-0400
END:DAYLIGHT
END:VTIMEZONE
BEGIN:VTIMEZONE
TZID:UTC
BEGIN:STANDARD
DTSTART:20250727T225734
TZOFFSETFROM:+0000
TZOFFSETTO:+0000
END:STANDARD
END:VTIMEZONE
BEGIN:VEVENT
UID:69eaa3dedd3b4
DTSTAMP:20260423T225734Z
SUMMARY:Construction Contractors: Auditing Considerations
LOCATION: 
URL:https://macpa.org/catalog/events/21568737-construction-contractors-audi
 ting-considerations-2026-10-09
DTSTART;TZID=America/New_York:20260910T110000
DTEND;TZID=America/New_York:20260910T150000
END:VEVENT
END:VCALENDAR