BEGIN:VCALENDAR
VERSION:2.0
PRODID:spatie/icalendar-generator
NAME:Yellow Book: Staying Compliant With Government Auditing Standards
X-WR-CALNAME:Yellow Book: Staying Compliant With Government Auditing Standa
 rds
BEGIN:VTIMEZONE
TZID:America/New_York
BEGIN:DAYLIGHT
DTSTART:20260308T010000
TZOFFSETFROM:-0500
TZOFFSETTO:-0400
END:DAYLIGHT
BEGIN:STANDARD
DTSTART:20261101T010000
TZOFFSETFROM:-0400
TZOFFSETTO:-0500
END:STANDARD
END:VTIMEZONE
BEGIN:VTIMEZONE
TZID:UTC
BEGIN:STANDARD
DTSTART:20250727T230903
TZOFFSETFROM:+0000
TZOFFSETTO:+0000
END:STANDARD
END:VTIMEZONE
BEGIN:VEVENT
UID:69eaa68f2e2a3
DTSTAMP:20260423T230903Z
SUMMARY:Yellow Book: Staying Compliant With Government Auditing Standards
LOCATION: 
URL:https://macpa.org/catalog/events/21568730-yellow-book-staying-compliant
 -with-government-auditing-standards-2026-09-09
DTSTART;TZID=America/New_York:20260909T090000
DTEND;TZID=America/New_York:20260909T170000
END:VEVENT
END:VCALENDAR