BEGIN:VCALENDAR
VERSION:2.0
PRODID:spatie/icalendar-generator
NAME:Audits of Employee Benefit Plans Subject to ERISA
X-WR-CALNAME:Audits of Employee Benefit Plans Subject to ERISA
BEGIN:VTIMEZONE
TZID:America/New_York
BEGIN:DAYLIGHT
DTSTART:20260308T010000
TZOFFSETFROM:-0500
TZOFFSETTO:-0400
END:DAYLIGHT
BEGIN:STANDARD
DTSTART:20261101T010000
TZOFFSETFROM:-0400
TZOFFSETTO:-0500
END:STANDARD
END:VTIMEZONE
BEGIN:VTIMEZONE
TZID:UTC
BEGIN:STANDARD
DTSTART:20250727T230648
TZOFFSETFROM:+0000
TZOFFSETTO:+0000
END:STANDARD
END:VTIMEZONE
BEGIN:VEVENT
UID:69eaa608e2d5c
DTSTAMP:20260423T230648Z
SUMMARY:Audits of Employee Benefit Plans Subject to ERISA
LOCATION: 
URL:https://macpa.org/catalog/events/21568689-audits-of-employee-benefit-pl
 ans-subject-to-erisa-2026-27-08
DTSTART;TZID=America/New_York:20260827T090000
DTEND;TZID=America/New_York:20260827T170000
END:VEVENT
END:VCALENDAR