BEGIN:VCALENDAR
VERSION:2.0
PRODID:spatie/icalendar-generator
NAME:Streamlined Excel Reporting Series Session 4: External Data and PivotC
 harts
X-WR-CALNAME:Streamlined Excel Reporting Series Session 4: External Data an
 d PivotCharts
BEGIN:VTIMEZONE
TZID:America/New_York
BEGIN:DAYLIGHT
DTSTART:20260308T010000
TZOFFSETFROM:-0500
TZOFFSETTO:-0400
END:DAYLIGHT
BEGIN:STANDARD
DTSTART:20261101T010000
TZOFFSETFROM:-0400
TZOFFSETTO:-0500
END:STANDARD
END:VTIMEZONE
BEGIN:VTIMEZONE
TZID:UTC
BEGIN:STANDARD
DTSTART:20250727T230648
TZOFFSETFROM:+0000
TZOFFSETTO:+0000
END:STANDARD
END:VTIMEZONE
BEGIN:VEVENT
UID:69eaa60830a81
DTSTAMP:20260423T230648Z
SUMMARY:Streamlined Excel Reporting Series Session 4: External Data and Piv
 otCharts
LOCATION: 
URL:https://macpa.org/catalog/events/21568688-streamlined-excel-reporting-s
 eries-session-4-external-data-and-pivotcharts-2026-27-08
DTSTART;TZID=America/New_York:20260827T120000
DTEND;TZID=America/New_York:20260827T140000
END:VEVENT
END:VCALENDAR