BEGIN:VCALENDAR
VERSION:2.0
PRODID:spatie/icalendar-generator
NAME:Streamlined Excel Reporting Series Session 3: PivotTable Wrap-Up and W
 eb Data
X-WR-CALNAME:Streamlined Excel Reporting Series Session 3: PivotTable Wrap-
 Up and Web Data
BEGIN:VTIMEZONE
TZID:America/New_York
BEGIN:DAYLIGHT
DTSTART:20260308T010000
TZOFFSETFROM:-0500
TZOFFSETTO:-0400
END:DAYLIGHT
BEGIN:STANDARD
DTSTART:20261101T010000
TZOFFSETFROM:-0400
TZOFFSETTO:-0500
END:STANDARD
END:VTIMEZONE
BEGIN:VTIMEZONE
TZID:UTC
BEGIN:STANDARD
DTSTART:20250727T230643
TZOFFSETFROM:+0000
TZOFFSETTO:+0000
END:STANDARD
END:VTIMEZONE
BEGIN:VEVENT
UID:69eaa6030dc0c
DTSTAMP:20260423T230643Z
SUMMARY:Streamlined Excel Reporting Series Session 3: PivotTable Wrap-Up an
 d Web Data
LOCATION: 
URL:https://macpa.org/catalog/events/21568626-streamlined-excel-reporting-s
 eries-session-3-pivottable-wrap-up-and-web-data-2026-19-08
DTSTART;TZID=America/New_York:20260819T110000
DTEND;TZID=America/New_York:20260819T130000
END:VEVENT
END:VCALENDAR