BEGIN:VCALENDAR
VERSION:2.0
PRODID:spatie/icalendar-generator
NAME:Thriving Amidst Technological Advances: The Power of 5 Key Leadership 
 Skills
X-WR-CALNAME:Thriving Amidst Technological Advances: The Power of 5 Key Lea
 dership Skills
BEGIN:VTIMEZONE
TZID:America/New_York
BEGIN:DAYLIGHT
DTSTART:20260308T010000
TZOFFSETFROM:-0500
TZOFFSETTO:-0400
END:DAYLIGHT
BEGIN:STANDARD
DTSTART:20261101T010000
TZOFFSETFROM:-0400
TZOFFSETTO:-0500
END:STANDARD
END:VTIMEZONE
BEGIN:VTIMEZONE
TZID:UTC
BEGIN:STANDARD
DTSTART:20250727T230749
TZOFFSETFROM:+0000
TZOFFSETTO:+0000
END:STANDARD
END:VTIMEZONE
BEGIN:VEVENT
UID:69eaa64558512
DTSTAMP:20260423T230749Z
SUMMARY:Thriving Amidst Technological Advances: The Power of 5 Key Leadersh
 ip Skills
LOCATION: 
URL:https://macpa.org/catalog/events/21568617-thriving-amidst-technological
 -advances-the-power-of-5-key-leadership-skills-2026-18-08
DTSTART;TZID=America/New_York:20260818T110000
DTEND;TZID=America/New_York:20260818T122500
END:VEVENT
END:VCALENDAR