BEGIN:VCALENDAR
VERSION:2.0
PRODID:spatie/icalendar-generator
NAME:Ethics in the World of AI: An Accountant's Guide to Managing the Risks
X-WR-CALNAME:Ethics in the World of AI: An Accountant's Guide to Managing t
 he Risks
BEGIN:VTIMEZONE
TZID:America/New_York
BEGIN:DAYLIGHT
DTSTART:20260308T010000
TZOFFSETFROM:-0500
TZOFFSETTO:-0400
END:DAYLIGHT
BEGIN:STANDARD
DTSTART:20261101T010000
TZOFFSETFROM:-0400
TZOFFSETTO:-0500
END:STANDARD
END:VTIMEZONE
BEGIN:VTIMEZONE
TZID:UTC
BEGIN:STANDARD
DTSTART:20250727T230503
TZOFFSETFROM:+0000
TZOFFSETTO:+0000
END:STANDARD
END:VTIMEZONE
BEGIN:VEVENT
UID:69eaa59fb0dda
DTSTAMP:20260423T230503Z
SUMMARY:Ethics in the World of AI: An Accountant's Guide to Managing the Ri
 sks
LOCATION: 
URL:https://macpa.org/catalog/events/21568612-ethics-in-the-world-of-ai-an-
 accountants-guide-to-managing-the-risks-2026-14-08
DTSTART;TZID=America/New_York:20260814T090000
DTEND;TZID=America/New_York:20260814T110000
END:VEVENT
END:VCALENDAR