BEGIN:VCALENDAR
VERSION:2.0
PRODID:spatie/icalendar-generator
NAME:Auditing Digital Assets: Considerations for Valuation
X-WR-CALNAME:Auditing Digital Assets: Considerations for Valuation
BEGIN:VTIMEZONE
TZID:America/New_York
BEGIN:DAYLIGHT
DTSTART:20260308T010000
TZOFFSETFROM:-0500
TZOFFSETTO:-0400
END:DAYLIGHT
BEGIN:STANDARD
DTSTART:20261101T010000
TZOFFSETFROM:-0400
TZOFFSETTO:-0500
END:STANDARD
END:VTIMEZONE
BEGIN:VTIMEZONE
TZID:UTC
BEGIN:STANDARD
DTSTART:20250727T230243
TZOFFSETFROM:+0000
TZOFFSETTO:+0000
END:STANDARD
END:VTIMEZONE
BEGIN:VEVENT
UID:69eaa513a96f3
DTSTAMP:20260423T230243Z
SUMMARY:Auditing Digital Assets: Considerations for Valuation
LOCATION: 
URL:https://macpa.org/catalog/events/21568570-auditing-digital-assets-consi
 derations-for-valuation-2026-12-08
DTSTART;TZID=America/New_York:20260812T130000
DTEND;TZID=America/New_York:20260812T140000
END:VEVENT
END:VCALENDAR