BEGIN:VCALENDAR
VERSION:2.0
PRODID:spatie/icalendar-generator
NAME:Applying the Uniform Guidance in Your Single Audits
X-WR-CALNAME:Applying the Uniform Guidance in Your Single Audits
BEGIN:VTIMEZONE
TZID:America/New_York
BEGIN:DAYLIGHT
DTSTART:20260308T010000
TZOFFSETFROM:-0500
TZOFFSETTO:-0400
END:DAYLIGHT
BEGIN:STANDARD
DTSTART:20261101T010000
TZOFFSETFROM:-0400
TZOFFSETTO:-0500
END:STANDARD
END:VTIMEZONE
BEGIN:VTIMEZONE
TZID:UTC
BEGIN:STANDARD
DTSTART:20250727T230349
TZOFFSETFROM:+0000
TZOFFSETTO:+0000
END:STANDARD
END:VTIMEZONE
BEGIN:VEVENT
UID:69eaa555cd404
DTSTAMP:20260423T230349Z
SUMMARY:Applying the Uniform Guidance in Your Single Audits
LOCATION: 
URL:https://macpa.org/catalog/events/21568546-applying-the-uniform-guidance
 -in-your-single-audits-2026-10-08
DTSTART;TZID=America/New_York:20260810T090000
DTEND;TZID=America/New_York:20260810T170000
END:VEVENT
END:VCALENDAR