BEGIN:VCALENDAR
VERSION:2.0
PRODID:spatie/icalendar-generator
NAME:Reviewing Individual Tax Returns
X-WR-CALNAME:Reviewing Individual Tax Returns
BEGIN:VTIMEZONE
TZID:America/New_York
BEGIN:DAYLIGHT
DTSTART:20260308T010000
TZOFFSETFROM:-0500
TZOFFSETTO:-0400
END:DAYLIGHT
BEGIN:STANDARD
DTSTART:20261101T010000
TZOFFSETFROM:-0400
TZOFFSETTO:-0500
END:STANDARD
END:VTIMEZONE
BEGIN:VTIMEZONE
TZID:UTC
BEGIN:STANDARD
DTSTART:20250727T230344
TZOFFSETFROM:+0000
TZOFFSETTO:+0000
END:STANDARD
END:VTIMEZONE
BEGIN:VEVENT
UID:69eaa550a84b0
DTSTAMP:20260423T230344Z
SUMMARY:Reviewing Individual Tax Returns
LOCATION: 
URL:https://macpa.org/catalog/events/21568521-reviewing-individual-tax-retu
 rns-2026-07-08
DTSTART;TZID=America/New_York:20260807T130000
DTEND;TZID=America/New_York:20260807T150000
END:VEVENT
END:VCALENDAR