BEGIN:VCALENDAR
VERSION:2.0
PRODID:spatie/icalendar-generator
NAME:Streamlined Excel Reporting Series Session 1: PivotTable Fundamentals
X-WR-CALNAME:Streamlined Excel Reporting Series Session 1: PivotTable Funda
 mentals
BEGIN:VTIMEZONE
TZID:America/New_York
BEGIN:DAYLIGHT
DTSTART:20260308T010000
TZOFFSETFROM:-0500
TZOFFSETTO:-0400
END:DAYLIGHT
BEGIN:STANDARD
DTSTART:20261101T010000
TZOFFSETFROM:-0400
TZOFFSETTO:-0500
END:STANDARD
END:VTIMEZONE
BEGIN:VTIMEZONE
TZID:UTC
BEGIN:STANDARD
DTSTART:20250727T225616
TZOFFSETFROM:+0000
TZOFFSETTO:+0000
END:STANDARD
END:VTIMEZONE
BEGIN:VEVENT
UID:69eaa390b9305
DTSTAMP:20260423T225616Z
SUMMARY:Streamlined Excel Reporting Series Session 1: PivotTable Fundamenta
 ls
LOCATION: 
URL:https://macpa.org/catalog/events/21568502-streamlined-excel-reporting-s
 eries-session-1-pivottable-fundamentals-2026-05-08
DTSTART;TZID=America/New_York:20260805T090000
DTEND;TZID=America/New_York:20260805T110000
END:VEVENT
END:VCALENDAR