BEGIN:VCALENDAR
VERSION:2.0
PRODID:spatie/icalendar-generator
NAME:Excel for Accounting Professionals Session 8: Dynamic Headers\, Mappin
 g Tables and Error Check
X-WR-CALNAME:Excel for Accounting Professionals Session 8: Dynamic Headers\
 , Mapping Tables and Error Check
BEGIN:VTIMEZONE
TZID:America/New_York
BEGIN:STANDARD
DTSTART:20251102T010000
TZOFFSETFROM:-0400
TZOFFSETTO:-0500
END:STANDARD
BEGIN:DAYLIGHT
DTSTART:20260308T010000
TZOFFSETFROM:-0500
TZOFFSETTO:-0400
END:DAYLIGHT
BEGIN:STANDARD
DTSTART:20261101T010000
TZOFFSETFROM:-0400
TZOFFSETTO:-0500
END:STANDARD
END:VTIMEZONE
BEGIN:VTIMEZONE
TZID:UTC
BEGIN:STANDARD
DTSTART:20250727T225617
TZOFFSETFROM:+0000
TZOFFSETTO:+0000
END:STANDARD
END:VTIMEZONE
BEGIN:VEVENT
UID:69eaa3913f131
DTSTAMP:20260423T225617Z
SUMMARY:Excel for Accounting Professionals Session 8: Dynamic Headers\, Map
 ping Tables and Error Check
LOCATION: 
URL:https://macpa.org/catalog/events/21568492-excel-for-accounting-professi
 onals-session-8-dynamic-headers-mapping-tables-and-error-check-2026-29-07
DTSTART;TZID=America/New_York:20260729T090000
DTEND;TZID=America/New_York:20260729T123000
END:VEVENT
END:VCALENDAR