BEGIN:VCALENDAR
VERSION:2.0
PRODID:spatie/icalendar-generator
NAME:AICPA Town Hall Series (Rebroadcast of 7/23/2026)
X-WR-CALNAME:AICPA Town Hall Series (Rebroadcast of 7/23/2026)
BEGIN:VTIMEZONE
TZID:America/New_York
BEGIN:STANDARD
DTSTART:20251102T010000
TZOFFSETFROM:-0400
TZOFFSETTO:-0500
END:STANDARD
BEGIN:DAYLIGHT
DTSTART:20260308T010000
TZOFFSETFROM:-0500
TZOFFSETTO:-0400
END:DAYLIGHT
BEGIN:STANDARD
DTSTART:20261101T010000
TZOFFSETFROM:-0400
TZOFFSETTO:-0500
END:STANDARD
END:VTIMEZONE
BEGIN:VTIMEZONE
TZID:UTC
BEGIN:STANDARD
DTSTART:20250727T230800
TZOFFSETFROM:+0000
TZOFFSETTO:+0000
END:STANDARD
END:VTIMEZONE
BEGIN:VEVENT
UID:69eaa650b5b2c
DTSTAMP:20260423T230800Z
SUMMARY:AICPA Town Hall Series (Rebroadcast of 7/23/2026)
LOCATION: 
URL:https://macpa.org/catalog/events/21568470-aicpa-town-hall-series-rebroa
 dcast-of-7232026-2026-27-07
DTSTART;TZID=America/New_York:20260727T130000
DTEND;TZID=America/New_York:20260727T140000
END:VEVENT
END:VCALENDAR