BEGIN:VCALENDAR
VERSION:2.0
PRODID:spatie/icalendar-generator
NAME:AICPA Town Hall Series (7/23/2026)
X-WR-CALNAME:AICPA Town Hall Series (7/23/2026)
BEGIN:VTIMEZONE
TZID:America/New_York
BEGIN:STANDARD
DTSTART:20251102T010000
TZOFFSETFROM:-0400
TZOFFSETTO:-0500
END:STANDARD
BEGIN:DAYLIGHT
DTSTART:20260308T010000
TZOFFSETFROM:-0500
TZOFFSETTO:-0400
END:DAYLIGHT
BEGIN:STANDARD
DTSTART:20261101T010000
TZOFFSETFROM:-0400
TZOFFSETTO:-0500
END:STANDARD
END:VTIMEZONE
BEGIN:VTIMEZONE
TZID:UTC
BEGIN:STANDARD
DTSTART:20250727T230456
TZOFFSETFROM:+0000
TZOFFSETTO:+0000
END:STANDARD
END:VTIMEZONE
BEGIN:VEVENT
UID:69eaa5988c1c3
DTSTAMP:20260423T230456Z
SUMMARY:AICPA Town Hall Series (7/23/2026)
LOCATION: 
URL:https://macpa.org/catalog/events/21568459-aicpa-town-hall-series-723202
 6-2026-23-07
DTSTART;TZID=America/New_York:20260723T150000
DTEND;TZID=America/New_York:20260723T160000
END:VEVENT
END:VCALENDAR