BEGIN:VCALENDAR
VERSION:2.0
PRODID:spatie/icalendar-generator
NAME:Excel for Accounting Professionals Session 7: Date-Driven Workbooks an
 d Concatenation
X-WR-CALNAME:Excel for Accounting Professionals Session 7: Date-Driven Work
 books and Concatenation
BEGIN:VTIMEZONE
TZID:America/New_York
BEGIN:STANDARD
DTSTART:20251102T010000
TZOFFSETFROM:-0400
TZOFFSETTO:-0500
END:STANDARD
BEGIN:DAYLIGHT
DTSTART:20260308T010000
TZOFFSETFROM:-0500
TZOFFSETTO:-0400
END:DAYLIGHT
BEGIN:STANDARD
DTSTART:20261101T010000
TZOFFSETFROM:-0400
TZOFFSETTO:-0500
END:STANDARD
END:VTIMEZONE
BEGIN:VTIMEZONE
TZID:UTC
BEGIN:STANDARD
DTSTART:20250727T230648
TZOFFSETFROM:+0000
TZOFFSETTO:+0000
END:STANDARD
END:VTIMEZONE
BEGIN:VEVENT
UID:69eaa6081a77e
DTSTAMP:20260423T230648Z
SUMMARY:Excel for Accounting Professionals Session 7: Date-Driven Workbooks
  and Concatenation
LOCATION: 
URL:https://macpa.org/catalog/events/21568452-excel-for-accounting-professi
 onals-session-7-date-driven-workbooks-and-concatenation-2026-22-07
DTSTART;TZID=America/New_York:20260722T110000
DTEND;TZID=America/New_York:20260722T130000
END:VEVENT
END:VCALENDAR