BEGIN:VCALENDAR
VERSION:2.0
PRODID:spatie/icalendar-generator
NAME:Single Audit Fundamentals Part 2: Major Program Determination 
X-WR-CALNAME:Single Audit Fundamentals Part 2: Major Program Determination
  
BEGIN:VTIMEZONE
TZID:America/New_York
BEGIN:STANDARD
DTSTART:20251102T010000
TZOFFSETFROM:-0400
TZOFFSETTO:-0500
END:STANDARD
BEGIN:DAYLIGHT
DTSTART:20260308T010000
TZOFFSETFROM:-0500
TZOFFSETTO:-0400
END:DAYLIGHT
BEGIN:STANDARD
DTSTART:20261101T010000
TZOFFSETFROM:-0400
TZOFFSETTO:-0500
END:STANDARD
END:VTIMEZONE
BEGIN:VTIMEZONE
TZID:UTC
BEGIN:STANDARD
DTSTART:20250727T230903
TZOFFSETFROM:+0000
TZOFFSETTO:+0000
END:STANDARD
END:VTIMEZONE
BEGIN:VEVENT
UID:69eaa68fe1523
DTSTAMP:20260423T230903Z
SUMMARY:Single Audit Fundamentals Part 2: Major Program Determination 
LOCATION: 
URL:https://macpa.org/catalog/events/21568432-single-audit-fundamentals-par
 t-2-major-program-determination-2026-20-07
DTSTART;TZID=America/New_York:20260720T130000
DTEND;TZID=America/New_York:20260720T150000
END:VEVENT
END:VCALENDAR