BEGIN:VCALENDAR
VERSION:2.0
PRODID:spatie/icalendar-generator
NAME:Individual Tax Fundamentals - Tax Staff Essentials
X-WR-CALNAME:Individual Tax Fundamentals - Tax Staff Essentials
BEGIN:VTIMEZONE
TZID:America/New_York
BEGIN:STANDARD
DTSTART:20251102T010000
TZOFFSETFROM:-0400
TZOFFSETTO:-0500
END:STANDARD
BEGIN:DAYLIGHT
DTSTART:20260308T010000
TZOFFSETFROM:-0500
TZOFFSETTO:-0400
END:DAYLIGHT
BEGIN:STANDARD
DTSTART:20261101T010000
TZOFFSETFROM:-0400
TZOFFSETTO:-0500
END:STANDARD
END:VTIMEZONE
BEGIN:VTIMEZONE
TZID:UTC
BEGIN:STANDARD
DTSTART:20250727T230742
TZOFFSETFROM:+0000
TZOFFSETTO:+0000
END:STANDARD
END:VTIMEZONE
BEGIN:VEVENT
UID:69eaa63ecbd5d
DTSTAMP:20260423T230742Z
SUMMARY:Individual Tax Fundamentals - Tax Staff Essentials
LOCATION: 
URL:https://macpa.org/catalog/events/21568426-individual-tax-fundamentals-t
 ax-staff-essentials-2026-17-07
DTSTART;TZID=America/New_York:20260717T090000
DTEND;TZID=America/New_York:20260717T170000
END:VEVENT
END:VCALENDAR