BEGIN:VCALENDAR
VERSION:2.0
PRODID:spatie/icalendar-generator
NAME:Ethics and Professional Conduct
X-WR-CALNAME:Ethics and Professional Conduct
BEGIN:VTIMEZONE
TZID:America/New_York
BEGIN:STANDARD
DTSTART:20251102T010000
TZOFFSETFROM:-0400
TZOFFSETTO:-0500
END:STANDARD
BEGIN:DAYLIGHT
DTSTART:20260308T010000
TZOFFSETFROM:-0500
TZOFFSETTO:-0400
END:DAYLIGHT
BEGIN:STANDARD
DTSTART:20261101T010000
TZOFFSETFROM:-0400
TZOFFSETTO:-0500
END:STANDARD
END:VTIMEZONE
BEGIN:VTIMEZONE
TZID:UTC
BEGIN:STANDARD
DTSTART:20250727T225719
TZOFFSETFROM:+0000
TZOFFSETTO:+0000
END:STANDARD
END:VTIMEZONE
BEGIN:VEVENT
UID:69eaa3cf90c8f
DTSTAMP:20260423T225719Z
SUMMARY:Ethics and Professional Conduct
LOCATION: 
URL:https://macpa.org/catalog/events/21568408-ethics-and-professional-condu
 ct-2026-17-07
DTSTART;TZID=America/New_York:20260717T130000
DTEND;TZID=America/New_York:20260717T150000
END:VEVENT
END:VCALENDAR