BEGIN:VCALENDAR
VERSION:2.0
PRODID:spatie/icalendar-generator
NAME:Reviewing S Corporation Tax Returns: What Are You Missing?
X-WR-CALNAME:Reviewing S Corporation Tax Returns: What Are You Missing?
BEGIN:VTIMEZONE
TZID:America/New_York
BEGIN:STANDARD
DTSTART:20251102T010000
TZOFFSETFROM:-0400
TZOFFSETTO:-0500
END:STANDARD
BEGIN:DAYLIGHT
DTSTART:20260308T010000
TZOFFSETFROM:-0500
TZOFFSETTO:-0400
END:DAYLIGHT
BEGIN:STANDARD
DTSTART:20261101T010000
TZOFFSETFROM:-0400
TZOFFSETTO:-0500
END:STANDARD
END:VTIMEZONE
BEGIN:VTIMEZONE
TZID:UTC
BEGIN:STANDARD
DTSTART:20250727T230642
TZOFFSETFROM:+0000
TZOFFSETTO:+0000
END:STANDARD
END:VTIMEZONE
BEGIN:VEVENT
UID:69eaa6025cfd5
DTSTAMP:20260423T230642Z
SUMMARY:Reviewing S Corporation Tax Returns: What Are You Missing?
LOCATION: 
URL:https://macpa.org/catalog/events/21568403-reviewing-s-corporation-tax-r
 eturns-what-are-you-missing-2026-16-07
DTSTART;TZID=America/New_York:20260716T130000
DTEND;TZID=America/New_York:20260716T170000
END:VEVENT
END:VCALENDAR