BEGIN:VCALENDAR
VERSION:2.0
PRODID:spatie/icalendar-generator
NAME:COSO's Internal Control Framework Essentials
X-WR-CALNAME:COSO's Internal Control Framework Essentials
BEGIN:VTIMEZONE
TZID:America/New_York
BEGIN:STANDARD
DTSTART:20251102T010000
TZOFFSETFROM:-0400
TZOFFSETTO:-0500
END:STANDARD
BEGIN:DAYLIGHT
DTSTART:20260308T010000
TZOFFSETFROM:-0500
TZOFFSETTO:-0400
END:DAYLIGHT
BEGIN:STANDARD
DTSTART:20261101T010000
TZOFFSETFROM:-0400
TZOFFSETTO:-0500
END:STANDARD
END:VTIMEZONE
BEGIN:VTIMEZONE
TZID:UTC
BEGIN:STANDARD
DTSTART:20250727T230502
TZOFFSETFROM:+0000
TZOFFSETTO:+0000
END:STANDARD
END:VTIMEZONE
BEGIN:VEVENT
UID:69eaa59eb20f9
DTSTAMP:20260423T230502Z
SUMMARY:COSO's Internal Control Framework Essentials
LOCATION: 
URL:https://macpa.org/catalog/events/21568392-cosos-internal-control-framew
 ork-essentials-2026-16-07
DTSTART;TZID=America/New_York:20260716T090000
DTEND;TZID=America/New_York:20260716T123000
END:VEVENT
END:VCALENDAR