BEGIN:VCALENDAR
VERSION:2.0
PRODID:spatie/icalendar-generator
NAME:The Bottom Line on the New Lease Accounting Requirements
X-WR-CALNAME:The Bottom Line on the New Lease Accounting Requirements
BEGIN:VTIMEZONE
TZID:America/New_York
BEGIN:STANDARD
DTSTART:20251102T010000
TZOFFSETFROM:-0400
TZOFFSETTO:-0500
END:STANDARD
BEGIN:DAYLIGHT
DTSTART:20260308T010000
TZOFFSETFROM:-0500
TZOFFSETTO:-0400
END:DAYLIGHT
BEGIN:STANDARD
DTSTART:20261101T010000
TZOFFSETFROM:-0400
TZOFFSETTO:-0500
END:STANDARD
END:VTIMEZONE
BEGIN:VTIMEZONE
TZID:UTC
BEGIN:STANDARD
DTSTART:20250727T230901
TZOFFSETFROM:+0000
TZOFFSETTO:+0000
END:STANDARD
END:VTIMEZONE
BEGIN:VEVENT
UID:69eaa68df3201
DTSTAMP:20260423T230901Z
SUMMARY:The Bottom Line on the New Lease Accounting Requirements
LOCATION: 
URL:https://macpa.org/catalog/events/21568388-the-bottom-line-on-the-new-le
 ase-accounting-requirements-2026-15-07
DTSTART;TZID=America/New_York:20260715T130000
DTEND;TZID=America/New_York:20260715T170000
END:VEVENT
END:VCALENDAR