BEGIN:VCALENDAR
VERSION:2.0
PRODID:spatie/icalendar-generator
NAME:Ethics: Avoiding the Slippery Slope of Ethical Pressures
X-WR-CALNAME:Ethics: Avoiding the Slippery Slope of Ethical Pressures
BEGIN:VTIMEZONE
TZID:America/New_York
BEGIN:STANDARD
DTSTART:20251102T010000
TZOFFSETFROM:-0400
TZOFFSETTO:-0500
END:STANDARD
BEGIN:DAYLIGHT
DTSTART:20260308T010000
TZOFFSETFROM:-0500
TZOFFSETTO:-0400
END:DAYLIGHT
BEGIN:STANDARD
DTSTART:20261101T010000
TZOFFSETFROM:-0400
TZOFFSETTO:-0500
END:STANDARD
END:VTIMEZONE
BEGIN:VTIMEZONE
TZID:UTC
BEGIN:STANDARD
DTSTART:20250727T230742
TZOFFSETFROM:+0000
TZOFFSETTO:+0000
END:STANDARD
END:VTIMEZONE
BEGIN:VEVENT
UID:69eaa63ece598
DTSTAMP:20260423T230742Z
SUMMARY:Ethics: Avoiding the Slippery Slope of Ethical Pressures
LOCATION: 
URL:https://macpa.org/catalog/events/21568368-ethics-avoiding-the-slippery-
 slope-of-ethical-pressures-2026-14-07
DTSTART;TZID=America/New_York:20260714T090000
DTEND;TZID=America/New_York:20260714T130000
END:VEVENT
END:VCALENDAR