BEGIN:VCALENDAR
VERSION:2.0
PRODID:spatie/icalendar-generator
NAME:AI-Powered Excel: Leveraging AI and ChatGPT for Supercharged Productiv
 ity
X-WR-CALNAME:AI-Powered Excel: Leveraging AI and ChatGPT for Supercharged P
 roductivity
BEGIN:VTIMEZONE
TZID:America/New_York
BEGIN:STANDARD
DTSTART:20251102T010000
TZOFFSETFROM:-0400
TZOFFSETTO:-0500
END:STANDARD
BEGIN:DAYLIGHT
DTSTART:20260308T010000
TZOFFSETFROM:-0500
TZOFFSETTO:-0400
END:DAYLIGHT
BEGIN:STANDARD
DTSTART:20261101T010000
TZOFFSETFROM:-0400
TZOFFSETTO:-0500
END:STANDARD
END:VTIMEZONE
BEGIN:VTIMEZONE
TZID:UTC
BEGIN:STANDARD
DTSTART:20250727T230502
TZOFFSETFROM:+0000
TZOFFSETTO:+0000
END:STANDARD
END:VTIMEZONE
BEGIN:VEVENT
UID:69eaa59e7c45c
DTSTAMP:20260423T230502Z
SUMMARY:AI-Powered Excel: Leveraging AI and ChatGPT for Supercharged Produc
 tivity
LOCATION: 
URL:https://macpa.org/catalog/events/21568342-ai-powered-excel-leveraging-a
 i-and-chatgpt-for-supercharged-productivity-2026-08-07
DTSTART;TZID=America/New_York:20260708T090000
DTEND;TZID=America/New_York:20260708T100000
END:VEVENT
END:VCALENDAR