BEGIN:VCALENDAR
VERSION:2.0
PRODID:spatie/icalendar-generator
NAME:Current Audit Environment and ASB Activity
X-WR-CALNAME:Current Audit Environment and ASB Activity
BEGIN:VTIMEZONE
TZID:America/New_York
BEGIN:STANDARD
DTSTART:20251102T010000
TZOFFSETFROM:-0400
TZOFFSETTO:-0500
END:STANDARD
BEGIN:DAYLIGHT
DTSTART:20260308T010000
TZOFFSETFROM:-0500
TZOFFSETTO:-0400
END:DAYLIGHT
BEGIN:STANDARD
DTSTART:20261101T010000
TZOFFSETFROM:-0400
TZOFFSETTO:-0500
END:STANDARD
END:VTIMEZONE
BEGIN:VTIMEZONE
TZID:UTC
BEGIN:STANDARD
DTSTART:20250727T230340
TZOFFSETFROM:+0000
TZOFFSETTO:+0000
END:STANDARD
END:VTIMEZONE
BEGIN:VEVENT
UID:69eaa54ca993d
DTSTAMP:20260423T230340Z
SUMMARY:Current Audit Environment and ASB Activity
LOCATION: 
URL:https://macpa.org/catalog/events/21568336-current-audit-environment-and
 -asb-activity-2026-07-07
DTSTART;TZID=America/New_York:20260707T090000
DTEND;TZID=America/New_York:20260707T113000
END:VEVENT
END:VCALENDAR