BEGIN:VCALENDAR
VERSION:2.0
PRODID:spatie/icalendar-generator
NAME:Excel for Accounting Professionals Session 5: Error Trapping and Impro
 ving Lookups
X-WR-CALNAME:Excel for Accounting Professionals Session 5: Error Trapping a
 nd Improving Lookups
BEGIN:VTIMEZONE
TZID:America/New_York
BEGIN:STANDARD
DTSTART:20251102T010000
TZOFFSETFROM:-0400
TZOFFSETTO:-0500
END:STANDARD
BEGIN:DAYLIGHT
DTSTART:20260308T010000
TZOFFSETFROM:-0500
TZOFFSETTO:-0400
END:DAYLIGHT
BEGIN:STANDARD
DTSTART:20261101T010000
TZOFFSETFROM:-0400
TZOFFSETTO:-0500
END:STANDARD
END:VTIMEZONE
BEGIN:VTIMEZONE
TZID:UTC
BEGIN:STANDARD
DTSTART:20250727T225719
TZOFFSETFROM:+0000
TZOFFSETTO:+0000
END:STANDARD
END:VTIMEZONE
BEGIN:VEVENT
UID:69eaa3cf15bd9
DTSTAMP:20260423T225719Z
SUMMARY:Excel for Accounting Professionals Session 5: Error Trapping and Im
 proving Lookups
LOCATION: 
URL:https://macpa.org/catalog/events/21568321-excel-for-accounting-professi
 onals-session-5-error-trapping-and-improving-lookups-2026-01-07
DTSTART;TZID=America/New_York:20260701T090000
DTEND;TZID=America/New_York:20260701T110000
END:VEVENT
END:VCALENDAR