BEGIN:VCALENDAR
VERSION:2.0
PRODID:spatie/icalendar-generator
NAME:Intermediate Individual Taxation - Tax Staff Essentials
X-WR-CALNAME:Intermediate Individual Taxation - Tax Staff Essentials
BEGIN:VTIMEZONE
TZID:America/New_York
BEGIN:STANDARD
DTSTART:20251102T010000
TZOFFSETFROM:-0400
TZOFFSETTO:-0500
END:STANDARD
BEGIN:DAYLIGHT
DTSTART:20260308T010000
TZOFFSETFROM:-0500
TZOFFSETTO:-0400
END:DAYLIGHT
BEGIN:STANDARD
DTSTART:20261101T010000
TZOFFSETFROM:-0400
TZOFFSETTO:-0500
END:STANDARD
END:VTIMEZONE
BEGIN:VTIMEZONE
TZID:UTC
BEGIN:STANDARD
DTSTART:20250727T230622
TZOFFSETFROM:+0000
TZOFFSETTO:+0000
END:STANDARD
END:VTIMEZONE
BEGIN:VEVENT
UID:69eaa5ee13b61
DTSTAMP:20260423T230622Z
SUMMARY:Intermediate Individual Taxation - Tax Staff Essentials
LOCATION: 
URL:https://macpa.org/catalog/events/21568303-intermediate-individual-taxat
 ion-tax-staff-essentials-2026-26-06
DTSTART;TZID=America/New_York:20260626T090000
DTEND;TZID=America/New_York:20260626T170000
END:VEVENT
END:VCALENDAR