BEGIN:VCALENDAR
VERSION:2.0
PRODID:spatie/icalendar-generator
NAME:Accounting for Digital Assets Under U.S. GAAP: Crypto lending and borr
 owing
X-WR-CALNAME:Accounting for Digital Assets Under U.S. GAAP: Crypto lending 
 and borrowing
BEGIN:VTIMEZONE
TZID:America/New_York
BEGIN:STANDARD
DTSTART:20251102T010000
TZOFFSETFROM:-0400
TZOFFSETTO:-0500
END:STANDARD
BEGIN:DAYLIGHT
DTSTART:20260308T010000
TZOFFSETFROM:-0500
TZOFFSETTO:-0400
END:DAYLIGHT
BEGIN:STANDARD
DTSTART:20261101T010000
TZOFFSETFROM:-0400
TZOFFSETTO:-0500
END:STANDARD
END:VTIMEZONE
BEGIN:VTIMEZONE
TZID:UTC
BEGIN:STANDARD
DTSTART:20250727T230856
TZOFFSETFROM:+0000
TZOFFSETTO:+0000
END:STANDARD
END:VTIMEZONE
BEGIN:VEVENT
UID:69eaa68844e1a
DTSTAMP:20260423T230856Z
SUMMARY:Accounting for Digital Assets Under U.S. GAAP: Crypto lending and b
 orrowing
LOCATION: 
URL:https://macpa.org/catalog/events/21568302-accounting-for-digital-assets
 -under-us-gaap-crypto-lending-and-borrowing-2026-26-06
DTSTART;TZID=America/New_York:20260626T110000
DTEND;TZID=America/New_York:20260626T120000
END:VEVENT
END:VCALENDAR