BEGIN:VCALENDAR
VERSION:2.0
PRODID:spatie/icalendar-generator
NAME:AICPA & CIMA Faculty Hour Series (6/26/2026)
X-WR-CALNAME:AICPA & CIMA Faculty Hour Series (6/26/2026)
BEGIN:VTIMEZONE
TZID:America/New_York
BEGIN:STANDARD
DTSTART:20251102T010000
TZOFFSETFROM:-0400
TZOFFSETTO:-0500
END:STANDARD
BEGIN:DAYLIGHT
DTSTART:20260308T010000
TZOFFSETFROM:-0500
TZOFFSETTO:-0400
END:DAYLIGHT
BEGIN:STANDARD
DTSTART:20261101T010000
TZOFFSETFROM:-0400
TZOFFSETTO:-0500
END:STANDARD
END:VTIMEZONE
BEGIN:VTIMEZONE
TZID:UTC
BEGIN:STANDARD
DTSTART:20250727T230516
TZOFFSETFROM:+0000
TZOFFSETTO:+0000
END:STANDARD
END:VTIMEZONE
BEGIN:VEVENT
UID:69eaa5accd2a9
DTSTAMP:20260423T230516Z
SUMMARY:AICPA & CIMA Faculty Hour Series (6/26/2026)
LOCATION: 
URL:https://macpa.org/catalog/events/21568298-aicpa-cima-faculty-hour-serie
 s-6262026-2026-26-06
DTSTART;TZID=America/New_York:20260626T140000
DTEND;TZID=America/New_York:20260626T153000
END:VEVENT
END:VCALENDAR