BEGIN:VCALENDAR
VERSION:2.0
PRODID:spatie/icalendar-generator
NAME:EPICenter Webcast Series: Bold Paths\, Real Impact: Emerging Leaders i
 n Action
X-WR-CALNAME:EPICenter Webcast Series: Bold Paths\, Real Impact: Emerging L
 eaders in Action
BEGIN:VTIMEZONE
TZID:America/New_York
BEGIN:STANDARD
DTSTART:20251102T010000
TZOFFSETFROM:-0400
TZOFFSETTO:-0500
END:STANDARD
BEGIN:DAYLIGHT
DTSTART:20260308T010000
TZOFFSETFROM:-0500
TZOFFSETTO:-0400
END:DAYLIGHT
BEGIN:STANDARD
DTSTART:20261101T010000
TZOFFSETFROM:-0400
TZOFFSETTO:-0500
END:STANDARD
END:VTIMEZONE
BEGIN:VTIMEZONE
TZID:UTC
BEGIN:STANDARD
DTSTART:20250727T230907
TZOFFSETFROM:+0000
TZOFFSETTO:+0000
END:STANDARD
END:VTIMEZONE
BEGIN:VEVENT
UID:69eaa693c1766
DTSTAMP:20260423T230907Z
SUMMARY:EPICenter Webcast Series: Bold Paths\, Real Impact: Emerging Leader
 s in Action
LOCATION: 
URL:https://macpa.org/catalog/events/21568272-epicenter-webcast-series-bold
 -paths-real-impact-emerging-leaders-in-action-2026-24-06
DTSTART;TZID=America/New_York:20260624T140000
DTEND;TZID=America/New_York:20260624T150000
END:VEVENT
END:VCALENDAR