BEGIN:VCALENDAR
VERSION:2.0
PRODID:spatie/icalendar-generator
NAME:Dark Side of AI: Navigating Risk and Understanding Organizational Impa
 ct
X-WR-CALNAME:Dark Side of AI: Navigating Risk and Understanding Organizatio
 nal Impact
BEGIN:VTIMEZONE
TZID:America/New_York
BEGIN:STANDARD
DTSTART:20251102T010000
TZOFFSETFROM:-0400
TZOFFSETTO:-0500
END:STANDARD
BEGIN:DAYLIGHT
DTSTART:20260308T010000
TZOFFSETFROM:-0500
TZOFFSETTO:-0400
END:DAYLIGHT
BEGIN:STANDARD
DTSTART:20261101T010000
TZOFFSETFROM:-0400
TZOFFSETTO:-0500
END:STANDARD
END:VTIMEZONE
BEGIN:VTIMEZONE
TZID:UTC
BEGIN:STANDARD
DTSTART:20250727T230349
TZOFFSETFROM:+0000
TZOFFSETTO:+0000
END:STANDARD
END:VTIMEZONE
BEGIN:VEVENT
UID:69eaa5551ae6d
DTSTAMP:20260423T230349Z
SUMMARY:Dark Side of AI: Navigating Risk and Understanding Organizational I
 mpact
LOCATION: 
URL:https://macpa.org/catalog/events/21568265-dark-side-of-ai-navigating-ri
 sk-and-understanding-organizational-impact-2026-24-06
DTSTART;TZID=America/New_York:20260624T110000
DTEND;TZID=America/New_York:20260624T120000
END:VEVENT
END:VCALENDAR