BEGIN:VCALENDAR
VERSION:2.0
PRODID:spatie/icalendar-generator
NAME:Yellow Book: Application of GAGAS Principles
X-WR-CALNAME:Yellow Book: Application of GAGAS Principles
BEGIN:VTIMEZONE
TZID:America/New_York
BEGIN:STANDARD
DTSTART:20251102T010000
TZOFFSETFROM:-0400
TZOFFSETTO:-0500
END:STANDARD
BEGIN:DAYLIGHT
DTSTART:20260308T010000
TZOFFSETFROM:-0500
TZOFFSETTO:-0400
END:DAYLIGHT
BEGIN:STANDARD
DTSTART:20261101T010000
TZOFFSETFROM:-0400
TZOFFSETTO:-0500
END:STANDARD
END:VTIMEZONE
BEGIN:VTIMEZONE
TZID:UTC
BEGIN:STANDARD
DTSTART:20250727T230642
TZOFFSETFROM:+0000
TZOFFSETTO:+0000
END:STANDARD
END:VTIMEZONE
BEGIN:VEVENT
UID:69eaa602bd0fb
DTSTAMP:20260423T230642Z
SUMMARY:Yellow Book: Application of GAGAS Principles
LOCATION: 
URL:https://macpa.org/catalog/events/21568264-yellow-book-application-of-ga
 gas-principles-2026-23-06
DTSTART;TZID=America/New_York:20260623T090000
DTEND;TZID=America/New_York:20260623T150000
END:VEVENT
END:VCALENDAR