BEGIN:VCALENDAR
VERSION:2.0
PRODID:spatie/icalendar-generator
NAME:Advanced Tax Planning S Corporations - Tax Staff Essentials
X-WR-CALNAME:Advanced Tax Planning S Corporations - Tax Staff Essentials
BEGIN:VTIMEZONE
TZID:America/New_York
BEGIN:STANDARD
DTSTART:20251102T010000
TZOFFSETFROM:-0400
TZOFFSETTO:-0500
END:STANDARD
BEGIN:DAYLIGHT
DTSTART:20260308T010000
TZOFFSETFROM:-0500
TZOFFSETTO:-0400
END:DAYLIGHT
BEGIN:STANDARD
DTSTART:20261101T010000
TZOFFSETFROM:-0400
TZOFFSETTO:-0500
END:STANDARD
END:VTIMEZONE
BEGIN:VTIMEZONE
TZID:UTC
BEGIN:STANDARD
DTSTART:20250727T230903
TZOFFSETFROM:+0000
TZOFFSETTO:+0000
END:STANDARD
END:VTIMEZONE
BEGIN:VEVENT
UID:69eaa68f03f14
DTSTAMP:20260423T230903Z
SUMMARY:Advanced Tax Planning S Corporations - Tax Staff Essentials
LOCATION: 
URL:https://macpa.org/catalog/events/21568252-advanced-tax-planning-s-corpo
 rations-tax-staff-essentials-2026-22-06
DTSTART;TZID=America/New_York:20260622T090000
DTEND;TZID=America/New_York:20260622T163000
END:VEVENT
END:VCALENDAR