BEGIN:VCALENDAR
VERSION:2.0
PRODID:spatie/icalendar-generator
NAME:S Corporations: Key Issues\, Compliance\, and Tax Strategies - Tax Sta
 ff Essentials
X-WR-CALNAME:S Corporations: Key Issues\, Compliance\, and Tax Strategies -
  Tax Staff Essentials
BEGIN:VTIMEZONE
TZID:America/New_York
BEGIN:STANDARD
DTSTART:20251102T010000
TZOFFSETFROM:-0400
TZOFFSETTO:-0500
END:STANDARD
BEGIN:DAYLIGHT
DTSTART:20260308T010000
TZOFFSETFROM:-0500
TZOFFSETTO:-0400
END:DAYLIGHT
BEGIN:STANDARD
DTSTART:20261101T010000
TZOFFSETFROM:-0400
TZOFFSETTO:-0500
END:STANDARD
END:VTIMEZONE
BEGIN:VTIMEZONE
TZID:UTC
BEGIN:STANDARD
DTSTART:20250727T230504
TZOFFSETFROM:+0000
TZOFFSETTO:+0000
END:STANDARD
END:VTIMEZONE
BEGIN:VEVENT
UID:69eaa5a059e49
DTSTAMP:20260423T230504Z
SUMMARY:S Corporations: Key Issues\, Compliance\, and Tax Strategies - Tax 
 Staff Essentials
LOCATION: 
URL:https://macpa.org/catalog/events/21568246-s-corporations-key-issues-com
 pliance-and-tax-strategies-tax-staff-essentials-2026-18-06
DTSTART;TZID=America/New_York:20260618T090000
DTEND;TZID=America/New_York:20260618T170000
END:VEVENT
END:VCALENDAR