BEGIN:VCALENDAR
VERSION:2.0
PRODID:spatie/icalendar-generator
NAME:Master Class Plus: H.R. 1 in Focus — Deadlines\, Guidance\, and Prac
 tical Insights
X-WR-CALNAME:Master Class Plus: H.R. 1 in Focus — Deadlines\, Guidance\, 
 and Practical Insights
BEGIN:VTIMEZONE
TZID:America/New_York
BEGIN:STANDARD
DTSTART:20251102T010000
TZOFFSETFROM:-0400
TZOFFSETTO:-0500
END:STANDARD
BEGIN:DAYLIGHT
DTSTART:20260308T010000
TZOFFSETFROM:-0500
TZOFFSETTO:-0400
END:DAYLIGHT
BEGIN:STANDARD
DTSTART:20261101T010000
TZOFFSETFROM:-0400
TZOFFSETTO:-0500
END:STANDARD
END:VTIMEZONE
BEGIN:VTIMEZONE
TZID:UTC
BEGIN:STANDARD
DTSTART:20250727T230458
TZOFFSETFROM:+0000
TZOFFSETTO:+0000
END:STANDARD
END:VTIMEZONE
BEGIN:VEVENT
UID:69eaa59a97d8d
DTSTAMP:20260423T230458Z
SUMMARY:Master Class Plus: H.R. 1 in Focus — Deadlines\, Guidance\, and P
 ractical Insights
LOCATION: 
URL:https://macpa.org/catalog/events/21568225-master-class-plus-hr-1-in-foc
 us-deadlines-guidance-and-practical-insights-2026-18-06
DTSTART;TZID=America/New_York:20260618T150000
DTEND;TZID=America/New_York:20260618T163000
END:VEVENT
END:VCALENDAR