BEGIN:VCALENDAR
VERSION:2.0
PRODID:spatie/icalendar-generator
NAME:Accounting for digital assets under US GAAP: Derivatives and mining
X-WR-CALNAME:Accounting for digital assets under US GAAP: Derivatives and m
 ining
BEGIN:VTIMEZONE
TZID:America/New_York
BEGIN:STANDARD
DTSTART:20251102T010000
TZOFFSETFROM:-0400
TZOFFSETTO:-0500
END:STANDARD
BEGIN:DAYLIGHT
DTSTART:20260308T010000
TZOFFSETFROM:-0500
TZOFFSETTO:-0400
END:DAYLIGHT
BEGIN:STANDARD
DTSTART:20261101T010000
TZOFFSETFROM:-0400
TZOFFSETTO:-0500
END:STANDARD
END:VTIMEZONE
BEGIN:VTIMEZONE
TZID:UTC
BEGIN:STANDARD
DTSTART:20250727T230750
TZOFFSETFROM:+0000
TZOFFSETTO:+0000
END:STANDARD
END:VTIMEZONE
BEGIN:VEVENT
UID:69eaa646d7d0e
DTSTAMP:20260423T230750Z
SUMMARY:Accounting for digital assets under US GAAP: Derivatives and mining
LOCATION: 
URL:https://macpa.org/catalog/events/21568224-accounting-for-digital-assets
 -under-us-gaap-derivatives-and-mining-2026-18-06
DTSTART;TZID=America/New_York:20260618T100000
DTEND;TZID=America/New_York:20260618T120000
END:VEVENT
END:VCALENDAR