BEGIN:VCALENDAR
VERSION:2.0
PRODID:spatie/icalendar-generator
NAME:Old Problems\, New Solutions: Techniques for Solving Concentrated Stoc
 k Positions
X-WR-CALNAME:Old Problems\, New Solutions: Techniques for Solving Concentra
 ted Stock Positions
BEGIN:VTIMEZONE
TZID:America/New_York
BEGIN:STANDARD
DTSTART:20251102T010000
TZOFFSETFROM:-0400
TZOFFSETTO:-0500
END:STANDARD
BEGIN:DAYLIGHT
DTSTART:20260308T010000
TZOFFSETFROM:-0500
TZOFFSETTO:-0400
END:DAYLIGHT
BEGIN:STANDARD
DTSTART:20261101T010000
TZOFFSETFROM:-0400
TZOFFSETTO:-0500
END:STANDARD
END:VTIMEZONE
BEGIN:VTIMEZONE
TZID:UTC
BEGIN:STANDARD
DTSTART:20250727T230107
TZOFFSETFROM:+0000
TZOFFSETTO:+0000
END:STANDARD
END:VTIMEZONE
BEGIN:VEVENT
UID:69eaa4b3493d9
DTSTAMP:20260423T230107Z
SUMMARY:Old Problems\, New Solutions: Techniques for Solving Concentrated S
 tock Positions
LOCATION: 
URL:https://macpa.org/catalog/events/21568221-old-problems-new-solutions-te
 chniques-for-solving-concentrated-stock-positions-2026-18-06
DTSTART;TZID=America/New_York:20260618T130000
DTEND;TZID=America/New_York:20260618T143000
END:VEVENT
END:VCALENDAR