BEGIN:VCALENDAR
VERSION:2.0
PRODID:spatie/icalendar-generator
NAME:Risk Assessment Under SAS No. 145
X-WR-CALNAME:Risk Assessment Under SAS No. 145
BEGIN:VTIMEZONE
TZID:America/New_York
BEGIN:STANDARD
DTSTART:20251102T010000
TZOFFSETFROM:-0400
TZOFFSETTO:-0500
END:STANDARD
BEGIN:DAYLIGHT
DTSTART:20260308T010000
TZOFFSETFROM:-0500
TZOFFSETTO:-0400
END:DAYLIGHT
BEGIN:STANDARD
DTSTART:20261101T010000
TZOFFSETFROM:-0400
TZOFFSETTO:-0500
END:STANDARD
END:VTIMEZONE
BEGIN:VTIMEZONE
TZID:UTC
BEGIN:STANDARD
DTSTART:20250727T230749
TZOFFSETFROM:+0000
TZOFFSETTO:+0000
END:STANDARD
END:VTIMEZONE
BEGIN:VEVENT
UID:69eaa64557474
DTSTAMP:20260423T230749Z
SUMMARY:Risk Assessment Under SAS No. 145
LOCATION: 
URL:https://macpa.org/catalog/events/21568181-risk-assessment-under-sas-no-
 145-2026-11-06
DTSTART;TZID=America/New_York:20260611T120000
DTEND;TZID=America/New_York:20260611T140000
END:VEVENT
END:VCALENDAR