BEGIN:VCALENDAR
VERSION:2.0
PRODID:spatie/icalendar-generator
NAME:Form 990: Best Practices for Accurate Preparation
X-WR-CALNAME:Form 990: Best Practices for Accurate Preparation
BEGIN:VTIMEZONE
TZID:America/New_York
BEGIN:STANDARD
DTSTART:20251102T010000
TZOFFSETFROM:-0400
TZOFFSETTO:-0500
END:STANDARD
BEGIN:DAYLIGHT
DTSTART:20260308T010000
TZOFFSETFROM:-0500
TZOFFSETTO:-0400
END:DAYLIGHT
BEGIN:STANDARD
DTSTART:20261101T010000
TZOFFSETFROM:-0400
TZOFFSETTO:-0500
END:STANDARD
END:VTIMEZONE
BEGIN:VTIMEZONE
TZID:UTC
BEGIN:STANDARD
DTSTART:20250727T230800
TZOFFSETFROM:+0000
TZOFFSETTO:+0000
END:STANDARD
END:VTIMEZONE
BEGIN:VEVENT
UID:69eaa650a06be
DTSTAMP:20260423T230800Z
SUMMARY:Form 990: Best Practices for Accurate Preparation
LOCATION: 
URL:https://macpa.org/catalog/events/21568163-form-990-best-practices-for-a
 ccurate-preparation-2026-08-06
DTSTART;TZID=America/New_York:20260608T090000
DTEND;TZID=America/New_York:20260608T170000
END:VEVENT
END:VCALENDAR