BEGIN:VCALENDAR
VERSION:2.0
PRODID:spatie/icalendar-generator
NAME:Applying AI in A&A: Creating Effective Prompts
X-WR-CALNAME:Applying AI in A&A: Creating Effective Prompts
BEGIN:VTIMEZONE
TZID:America/New_York
BEGIN:STANDARD
DTSTART:20251102T010000
TZOFFSETFROM:-0400
TZOFFSETTO:-0500
END:STANDARD
BEGIN:DAYLIGHT
DTSTART:20260308T010000
TZOFFSETFROM:-0500
TZOFFSETTO:-0400
END:DAYLIGHT
BEGIN:STANDARD
DTSTART:20261101T010000
TZOFFSETFROM:-0400
TZOFFSETTO:-0500
END:STANDARD
END:VTIMEZONE
BEGIN:VTIMEZONE
TZID:UTC
BEGIN:STANDARD
DTSTART:20250727T230649
TZOFFSETFROM:+0000
TZOFFSETTO:+0000
END:STANDARD
END:VTIMEZONE
BEGIN:VEVENT
UID:69eaa6095c24e
DTSTAMP:20260423T230649Z
SUMMARY:Applying AI in A&A: Creating Effective Prompts
LOCATION: 
URL:https://macpa.org/catalog/events/21568109-applying-ai-in-aa-creating-ef
 fective-prompts-2026-21-05
DTSTART;TZID=America/New_York:20260521T130000
DTEND;TZID=America/New_York:20260521T140000
END:VEVENT
END:VCALENDAR