BEGIN:VCALENDAR
VERSION:2.0
PRODID:spatie/icalendar-generator
NAME:Riding the Waves of Transformation: Insights and Actions for Today’s
  CFO
X-WR-CALNAME:Riding the Waves of Transformation: Insights and Actions for T
 oday’s CFO
BEGIN:VTIMEZONE
TZID:America/New_York
BEGIN:STANDARD
DTSTART:20251102T010000
TZOFFSETFROM:-0400
TZOFFSETTO:-0500
END:STANDARD
BEGIN:DAYLIGHT
DTSTART:20260308T010000
TZOFFSETFROM:-0500
TZOFFSETTO:-0400
END:DAYLIGHT
BEGIN:STANDARD
DTSTART:20261101T010000
TZOFFSETFROM:-0400
TZOFFSETTO:-0500
END:STANDARD
END:VTIMEZONE
BEGIN:VTIMEZONE
TZID:UTC
BEGIN:STANDARD
DTSTART:20250727T230950
TZOFFSETFROM:+0000
TZOFFSETTO:+0000
END:STANDARD
END:VTIMEZONE
BEGIN:VEVENT
UID:69eaa6be823e0
DTSTAMP:20260423T230950Z
SUMMARY:Riding the Waves of Transformation: Insights and Actions for Today
 ’s CFO
LOCATION: 
URL:https://macpa.org/catalog/events/21568096-riding-the-waves-of-transform
 ation-insights-and-actions-for-todays-cfo-2026-20-05
DTSTART;TZID=America/New_York:20260520T110000
DTEND;TZID=America/New_York:20260520T122500
END:VEVENT
END:VCALENDAR