BEGIN:VCALENDAR
VERSION:2.0
PRODID:spatie/icalendar-generator
NAME:Redefining Leadership: Empowering People in an AI World
X-WR-CALNAME:Redefining Leadership: Empowering People in an AI World
BEGIN:VTIMEZONE
TZID:America/New_York
BEGIN:STANDARD
DTSTART:20251102T010000
TZOFFSETFROM:-0400
TZOFFSETTO:-0500
END:STANDARD
BEGIN:DAYLIGHT
DTSTART:20260308T010000
TZOFFSETFROM:-0500
TZOFFSETTO:-0400
END:DAYLIGHT
BEGIN:STANDARD
DTSTART:20261101T010000
TZOFFSETFROM:-0400
TZOFFSETTO:-0500
END:STANDARD
END:VTIMEZONE
BEGIN:VTIMEZONE
TZID:UTC
BEGIN:STANDARD
DTSTART:20250727T230515
TZOFFSETFROM:+0000
TZOFFSETTO:+0000
END:STANDARD
END:VTIMEZONE
BEGIN:VEVENT
UID:69eaa5abc2556
DTSTAMP:20260423T230515Z
SUMMARY:Redefining Leadership: Empowering People in an AI World
LOCATION: 
URL:https://macpa.org/catalog/events/21568094-redefining-leadership-empower
 ing-people-in-an-ai-world-2026-20-05
DTSTART;TZID=America/New_York:20260520T100000
DTEND;TZID=America/New_York:20260520T113000
END:VEVENT
END:VCALENDAR