BEGIN:VCALENDAR
VERSION:2.0
PRODID:spatie/icalendar-generator
NAME:Peer Reviews of Firms with Alternative Practice Structures
X-WR-CALNAME:Peer Reviews of Firms with Alternative Practice Structures
BEGIN:VTIMEZONE
TZID:America/New_York
BEGIN:STANDARD
DTSTART:20251102T010000
TZOFFSETFROM:-0400
TZOFFSETTO:-0500
END:STANDARD
BEGIN:DAYLIGHT
DTSTART:20260308T010000
TZOFFSETFROM:-0500
TZOFFSETTO:-0400
END:DAYLIGHT
BEGIN:STANDARD
DTSTART:20261101T010000
TZOFFSETFROM:-0400
TZOFFSETTO:-0500
END:STANDARD
END:VTIMEZONE
BEGIN:VTIMEZONE
TZID:UTC
BEGIN:STANDARD
DTSTART:20250727T230504
TZOFFSETFROM:+0000
TZOFFSETTO:+0000
END:STANDARD
END:VTIMEZONE
BEGIN:VEVENT
UID:69eaa5a085ac8
DTSTAMP:20260423T230504Z
SUMMARY:Peer Reviews of Firms with Alternative Practice Structures
LOCATION: 
URL:https://macpa.org/catalog/events/21568085-peer-reviews-of-firms-with-al
 ternative-practice-structures-2026-19-05
DTSTART;TZID=America/New_York:20260519T130000
DTEND;TZID=America/New_York:20260519T150000
END:VEVENT
END:VCALENDAR