BEGIN:VCALENDAR
VERSION:2.0
PRODID:spatie/icalendar-generator
NAME:AmplifiHER: More Than One Way to Think: Building Neuroinclusive Teams
X-WR-CALNAME:AmplifiHER: More Than One Way to Think: Building Neuroinclusiv
 e Teams
BEGIN:VTIMEZONE
TZID:America/New_York
BEGIN:STANDARD
DTSTART:20251102T010000
TZOFFSETFROM:-0400
TZOFFSETTO:-0500
END:STANDARD
BEGIN:DAYLIGHT
DTSTART:20260308T010000
TZOFFSETFROM:-0500
TZOFFSETTO:-0400
END:DAYLIGHT
BEGIN:STANDARD
DTSTART:20261101T010000
TZOFFSETFROM:-0400
TZOFFSETTO:-0500
END:STANDARD
END:VTIMEZONE
BEGIN:VTIMEZONE
TZID:UTC
BEGIN:STANDARD
DTSTART:20250727T230647
TZOFFSETFROM:+0000
TZOFFSETTO:+0000
END:STANDARD
END:VTIMEZONE
BEGIN:VEVENT
UID:69eaa607e2e7a
DTSTAMP:20260423T230647Z
SUMMARY:AmplifiHER: More Than One Way to Think: Building Neuroinclusive Tea
 ms
LOCATION: 
URL:https://macpa.org/catalog/events/21568060-amplifiher-more-than-one-way-
 to-think-building-neuroinclusive-teams-2026-13-05
DTSTART;TZID=America/New_York:20260513T120000
DTEND;TZID=America/New_York:20260513T130000
END:VEVENT
END:VCALENDAR