BEGIN:VCALENDAR
VERSION:2.0
PRODID:spatie/icalendar-generator
NAME:Tax and Financial Reporting for Transfer Pricing: A Comprehensive Over
 view
X-WR-CALNAME:Tax and Financial Reporting for Transfer Pricing: A Comprehens
 ive Overview
BEGIN:VTIMEZONE
TZID:America/New_York
BEGIN:STANDARD
DTSTART:20251102T010000
TZOFFSETFROM:-0400
TZOFFSETTO:-0500
END:STANDARD
BEGIN:DAYLIGHT
DTSTART:20260308T010000
TZOFFSETFROM:-0500
TZOFFSETTO:-0400
END:DAYLIGHT
BEGIN:STANDARD
DTSTART:20261101T010000
TZOFFSETFROM:-0400
TZOFFSETTO:-0500
END:STANDARD
END:VTIMEZONE
BEGIN:VTIMEZONE
TZID:UTC
BEGIN:STANDARD
DTSTART:20250727T230643
TZOFFSETFROM:+0000
TZOFFSETTO:+0000
END:STANDARD
END:VTIMEZONE
BEGIN:VEVENT
UID:69eaa603d70ab
DTSTAMP:20260423T230643Z
SUMMARY:Tax and Financial Reporting for Transfer Pricing: A Comprehensive O
 verview
LOCATION: 
URL:https://macpa.org/catalog/events/21568046-tax-and-financial-reporting-f
 or-transfer-pricing-a-comprehensive-overview-2026-12-05
DTSTART;TZID=America/New_York:20260512T120000
DTEND;TZID=America/New_York:20260512T130000
END:VEVENT
END:VCALENDAR