BEGIN:VCALENDAR
VERSION:2.0
PRODID:spatie/icalendar-generator
NAME:Governance in the Age of AI
X-WR-CALNAME:Governance in the Age of AI
BEGIN:VTIMEZONE
TZID:America/New_York
BEGIN:STANDARD
DTSTART:20251102T010000
TZOFFSETFROM:-0400
TZOFFSETTO:-0500
END:STANDARD
BEGIN:DAYLIGHT
DTSTART:20260308T010000
TZOFFSETFROM:-0500
TZOFFSETTO:-0400
END:DAYLIGHT
BEGIN:STANDARD
DTSTART:20261101T010000
TZOFFSETFROM:-0400
TZOFFSETTO:-0500
END:STANDARD
END:VTIMEZONE
BEGIN:VTIMEZONE
TZID:UTC
BEGIN:STANDARD
DTSTART:20250727T230515
TZOFFSETFROM:+0000
TZOFFSETTO:+0000
END:STANDARD
END:VTIMEZONE
BEGIN:VEVENT
UID:69eaa5ab950a2
DTSTAMP:20260423T230515Z
SUMMARY:Governance in the Age of AI
LOCATION: 
URL:https://macpa.org/catalog/events/21568008-governance-in-the-age-of-ai-2
 026-01-05
DTSTART;TZID=America/New_York:20260501T140000
DTEND;TZID=America/New_York:20260501T150000
END:VEVENT
END:VCALENDAR